BEGIN:VCALENDAR
VERSION:2.0
PRODID:icalendar-ruby
CALSCALE:GREGORIAN
METHOD:PUBLISH
BEGIN:VEVENT
DTSTAMP:20260422T054734Z
UID:10-280440@americacomebacktogod.org
DTSTART:20261023T230000Z
DTEND:20261024T000000Z
CLASS:PUBLIC
CREATED:20260421T212001
DESCRIPTION:Prayer
LAST-MODIFIED:20260421T212001
LOCATION:Zoom
SUMMARY:Prayer
URL;VALUE=URI:https://www.americacomebacktogod.org/events/prayer/2026-10-23
ATTACH;FILENAME=6Xnz.jpg;FMTTYPE=image/jpeg:https://dq5pwpg1q8ru0.cloudfron
 t.net/2025/12/14/04/03/27/d0410f29-61f7-4888-8432-13e8c01976d0/6Xnz.jpg
END:VEVENT
END:VCALENDAR
